BEGIN:VCALENDAR
VERSION:2.0
PRODID:-//Howard Suamico Optimist Club - ECPv6.15.17//NONSGML v1.0//EN
CALSCALE:GREGORIAN
METHOD:PUBLISH
X-ORIGINAL-URL:https://www.hsoptimistclub.org
X-WR-CALDESC:Events for Howard Suamico Optimist Club
REFRESH-INTERVAL;VALUE=DURATION:PT1H
X-Robots-Tag:noindex
X-PUBLISHED-TTL:PT1H
BEGIN:VTIMEZONE
TZID:America/Chicago
BEGIN:DAYLIGHT
TZOFFSETFROM:-0600
TZOFFSETTO:-0500
TZNAME:CDT
DTSTART:20210314T080000
END:DAYLIGHT
BEGIN:STANDARD
TZOFFSETFROM:-0500
TZOFFSETTO:-0600
TZNAME:CST
DTSTART:20211107T070000
END:STANDARD
BEGIN:DAYLIGHT
TZOFFSETFROM:-0600
TZOFFSETTO:-0500
TZNAME:CDT
DTSTART:20220313T080000
END:DAYLIGHT
BEGIN:STANDARD
TZOFFSETFROM:-0500
TZOFFSETTO:-0600
TZNAME:CST
DTSTART:20221106T070000
END:STANDARD
BEGIN:DAYLIGHT
TZOFFSETFROM:-0600
TZOFFSETTO:-0500
TZNAME:CDT
DTSTART:20230312T080000
END:DAYLIGHT
BEGIN:STANDARD
TZOFFSETFROM:-0500
TZOFFSETTO:-0600
TZNAME:CST
DTSTART:20231105T070000
END:STANDARD
END:VTIMEZONE
BEGIN:VEVENT
DTSTART;TZID=America/Chicago:20221203T130000
DTEND;TZID=America/Chicago:20221203T150000
DTSTAMP:20260425T173956
CREATED:20221013T212355Z
LAST-MODIFIED:20221016T205936Z
UID:1891-1670072400-1670079600@www.hsoptimistclub.org
SUMMARY:Annual Howard-Suamico Christmas Parade
DESCRIPTION:In Memory of Gary Rozmarynoski for over 50 years of dedication to the Howard-Suamico Optimist Club and Parade
URL:https://www.hsoptimistclub.org/event/annual-howard-suamico-christmas-parade/
LOCATION:Wisconsin
END:VEVENT
BEGIN:VEVENT
DTSTART;TZID=America/Chicago:20221203T130000
DTEND;TZID=America/Chicago:20221203T150000
DTSTAMP:20260425T173956
CREATED:20230926T070638Z
LAST-MODIFIED:20230926T180652Z
UID:1897-1670072400-1670079600@www.hsoptimistclub.org
SUMMARY:Christmas Parade December 2\, 2023
DESCRIPTION:2023 Christmas Parade\n\n\nCome and experience the floats\, bands\, candy\, and Santa on the streets of Howard. The parade route \n\n\n\nwill remain the same as usual going from Bay View Middle School down Cardinal Lane to Glendale Ave\, \n\n\n\nthen east to Harwood to Woodale Ave and finishing back at Bay View Middle School. \n\n\n\nThere is NO cost to enter\, so gather your friends and family together to construct a float and join in the \n\n\n\nfestivities. ALL UNITS MUST BE DECORATED TO REFLECT THE THEME OF THE PARADE “ Christmas \n\n\n\nThrough the Decades”. We also encourage you to have music incorporated into your unit. \n\n\n\nON LINE FORMS FOUND AT——– WWW.HSOPTIMISTCLUB.ORG \n\n\n\nFor more info please contact Mike Kirschling at: 920-272-3403 \n\n\n\nReturn all entries to: \n\n\n\nHS PARADE COMMITTEE P.O.BOX 434 SUAMICO\, WI 54173 \n\n\n\nor email to michael.kirschling@prevea.com
URL:https://www.hsoptimistclub.org/event/christmas-parade/
LOCATION:Wisconsin
END:VEVENT
END:VCALENDAR